BEGIN:VCALENDAR
VERSION:2.0
PRODID:-//Decorah Area Chamber of Commerce - ECPv6.15.17.1//NONSGML v1.0//EN
CALSCALE:GREGORIAN
METHOD:PUBLISH
X-ORIGINAL-URL:https://www.decorahareachamber.com
X-WR-CALDESC:Events for Decorah Area Chamber of Commerce
REFRESH-INTERVAL;VALUE=DURATION:PT1H
X-Robots-Tag:noindex
X-PUBLISHED-TTL:PT1H
BEGIN:VTIMEZONE
TZID:America/Chicago
BEGIN:DAYLIGHT
TZOFFSETFROM:-0600
TZOFFSETTO:-0500
TZNAME:CDT
DTSTART:20250309T080000
END:DAYLIGHT
BEGIN:STANDARD
TZOFFSETFROM:-0500
TZOFFSETTO:-0600
TZNAME:CST
DTSTART:20251102T070000
END:STANDARD
BEGIN:DAYLIGHT
TZOFFSETFROM:-0600
TZOFFSETTO:-0500
TZNAME:CDT
DTSTART:20260308T080000
END:DAYLIGHT
BEGIN:STANDARD
TZOFFSETFROM:-0500
TZOFFSETTO:-0600
TZNAME:CST
DTSTART:20261101T070000
END:STANDARD
BEGIN:DAYLIGHT
TZOFFSETFROM:-0600
TZOFFSETTO:-0500
TZNAME:CDT
DTSTART:20270314T080000
END:DAYLIGHT
BEGIN:STANDARD
TZOFFSETFROM:-0500
TZOFFSETTO:-0600
TZNAME:CST
DTSTART:20271107T070000
END:STANDARD
END:VTIMEZONE
BEGIN:VEVENT
DTSTART;TZID=America/Chicago:20260424T180000
DTEND;TZID=America/Chicago:20260424T210000
DTSTAMP:20260422T061140
CREATED:20260123T213922Z
LAST-MODIFIED:20260420T171402Z
UID:10000145-1777053600-1777064400@www.decorahareachamber.com
SUMMARY:Chamber Gala 2026
DESCRIPTION:2026 Chamber Gala\n***SCROLL TO THE BOTTOM FOR TICKETS***\nThe Decorah Area Chamber hosts its annual evening fundraiser on April 24th. Upon arrival\, guests can choose to be a spectator or opt-in to participate in a casual game of mystery based on the Parker Brothers classic detective game: CLUE. Game participants will travel to each ‘room’ during the event to collect clues and fill out a game sheet. One winner will be drawn from completed and correct game sheets. Scroll to the bottom of this webpage to purchase gala tickets for this fun-filled night of games\, raffles\, and mystery! \nChamber Gala @ Impact Coffee \nFriday\, April 24th\, 2026 | 6 – 9 PM \nEvent Theme: CLUE \nDress Code: Black-Tie Event (elevated costumes welcome) \nHors d’oeuvres catered by Bon Appetit \nCharacter-Inspired Cocktails by Impact Coffee \nEvening Schedule: \n6 PM | Doors Open for Drinks / Appetizers / Raffles / Photo Booth\n6:45 | Welcome & How To Play\n7 PM | Mystery Game Begins\n8 PM | Raffle Winners Drawn\n8:15 PM | Mystery is Solved!\n8:30 PM | Live Auction  \n  \nThank you to our 2026 Gala Sponsors:\nThe Mansion – Premier Sponsor – Decorah Bank & Trust \nThe Detective – Supporting Sponsor – Stanley Engineered Fastening \nThe Detective – Supporting Sponsor – KAR Auto Group \nMystery – Boosting Sponsor – Viking State Bank & Trust \nMystery – Boosting Sponsor – Helms Funeral Home  \nMystery – Boosting Sponsor – AJ Realty \nConfidential Case File Sponsor – Paul Hudson-State Farm Agent  \nPhoto Booth Sponsor – Modish \nDessert Sponsor – Johanningmeier Stone \nLive Auction Sponsor – Hacker Nelson and Co.\, P.C. \nLibrary Room Sponsor – Inspire(d) Media \nStudy Room Sponsor – BeMobile – Verizon \nConservatory Room Sponsor – Black Hills Energy \nDining Room Sponsor – Viking State Bank & Trust \nBilliard Room Sponsor – All Vet’s Club Decorah \nKitchen Sponsor – JB Holland Construction \nWrench Sponsor – Crown Electric \nKnife Sponsor – JB Holland Construction \nRevolver Sponsor – Friest & Associates Realtors \nPipe Sponsor – Mracek Plumbing\, Heating\, Electric \nCandlestick Sponsor – Jenny Wren Gift Market \nRope Sponsor – Viking Realtors \nMiss Scarlett Cocktail Sponsor – The Highlands – Aase Haugen \nMr. Green Cocktail Sponsor – BeMobile – Verizon \nMrs. Peacock Cocktail Sponsor – Rendered Unique \nThe Detective Mocktail Sponsor – The Highlands – Aase Haugen \n 
URL:https://www.decorahareachamber.com/event/chamber-gala-2026/
LOCATION:Impact Coffee\, 101 W Water St\, Decorah\, IA\, 52101\, United States
ATTACH;FMTTYPE=image/png:https://www.decorahareachamber.com/wp-content/uploads/2026/01/Chamber-Gala-.png
END:VEVENT
END:VCALENDAR